Package: TargetSearch Version: 2.4.2 Command: F:\biocbuild\bbs-3.18-bioc\R\bin\R.exe CMD INSTALL TargetSearch StartedAt: 2024-04-15 15:41:23 -0400 (Mon, 15 Apr 2024) EndedAt: 2024-04-15 15:41:44 -0400 (Mon, 15 Apr 2024) EllapsedTime: 21.4 seconds RetCode: 0 Status: OK