Package: TileDBArray Version: 1.12.0 Command: rm -rf TileDBArray.buildbin-libdir && mkdir TileDBArray.buildbin-libdir && /Users/biocbuild/BBS/utils/build-universal.sh TileDBArray_1.12.0.tar.gz /Library/Frameworks/R.framework/Resources/bin/R TileDBArray.buildbin-libdir StartedAt: 2024-03-04 01:08:45 -0500 (Mon, 04 Mar 2024) EndedAt: 2024-03-04 01:09:29 -0500 (Mon, 04 Mar 2024) EllapsedTime: 43.5 seconds RetCode: 0 Status: OK PackageFile: TileDBArray_1.12.0.tgz PackageFileSize: 732.6 KiB