Package: TileDBArray Version: 1.12.0 Command: /Library/Frameworks/R.framework/Resources/bin/R CMD build --keep-empty-dirs --no-resave-data TileDBArray StartedAt: 2024-03-03 18:35:40 -0500 (Sun, 03 Mar 2024) EndedAt: 2024-03-03 18:36:22 -0500 (Sun, 03 Mar 2024) EllapsedTime: 42.9 seconds RetCode: 0 Status: OK PackageFile: TileDBArray_1.12.0.tar.gz PackageFileSize: 306.2 KiB