Package: TileDBArray Version: 1.12.0 Command: /Library/Frameworks/R.framework/Resources/bin/R CMD check --install=check:TileDBArray.install-out.txt --library=/Library/Frameworks/R.framework/Resources/library --no-vignettes --timings TileDBArray_1.12.0.tar.gz StartedAt: 2024-03-03 23:56:10 -0500 (Sun, 03 Mar 2024) EndedAt: 2024-03-03 23:58:54 -0500 (Sun, 03 Mar 2024) EllapsedTime: 164.3 seconds RetCode: 0 Status: WARNINGS CheckDir: TileDBArray.Rcheck Warnings: 1