Package: TileDBArray Version: 1.12.0 Command: /home/biocbuild/bbs-3.18-bioc/R/bin/R CMD build --keep-empty-dirs --no-resave-data TileDBArray StartedAt: 2024-04-15 19:35:55 -0400 (Mon, 15 Apr 2024) EndedAt: 2024-04-15 19:36:30 -0400 (Mon, 15 Apr 2024) EllapsedTime: 35.8 seconds RetCode: 0 Status: OK PackageFile: TileDBArray_1.12.0.tar.gz PackageFileSize: 306.3 KiB