Package: TileDBArray Version: 1.12.0 Command: /home/biocbuild/bbs-3.18-bioc/R/bin/R CMD check --install=check:TileDBArray.install-out.txt --library=/home/biocbuild/bbs-3.18-bioc/R/site-library --timings TileDBArray_1.12.0.tar.gz StartedAt: 2024-04-16 04:44:57 -0400 (Tue, 16 Apr 2024) EndedAt: 2024-04-16 04:47:37 -0400 (Tue, 16 Apr 2024) EllapsedTime: 160.0 seconds RetCode: 0 Status: WARNINGS CheckDir: TileDBArray.Rcheck Warnings: 1