Package: TnT Version: 1.24.0 Command: /Library/Frameworks/R.framework/Resources/bin/R CMD build --keep-empty-dirs --no-resave-data TnT StartedAt: 2024-03-03 18:36:38 -0500 (Sun, 03 Mar 2024) EndedAt: 2024-03-03 18:37:03 -0500 (Sun, 03 Mar 2024) EllapsedTime: 24.8 seconds RetCode: 0 Status: OK PackageFile: TnT_1.24.0.tar.gz PackageFileSize: 230.4 KiB