Package: TnT Version: 1.24.0 Command: /Library/Frameworks/R.framework/Resources/bin/R CMD check --install=check:TnT.install-out.txt --library=/Library/Frameworks/R.framework/Resources/library --no-vignettes --timings TnT_1.24.0.tar.gz StartedAt: 2024-03-03 23:57:55 -0500 (Sun, 03 Mar 2024) EndedAt: 2024-03-03 23:59:52 -0500 (Sun, 03 Mar 2024) EllapsedTime: 116.5 seconds RetCode: 0 Status: OK CheckDir: TnT.Rcheck Warnings: 0