Package: TrajectoryUtils Version: 1.10.0 Command: /home/biocbuild/R/R-4.3.1/bin/R CMD check --install=check:TrajectoryUtils.install-out.txt --library=/home/biocbuild/R/R-4.3.1/site-library --no-vignettes --timings TrajectoryUtils_1.10.0.tar.gz StartedAt: 2023-11-02 15:00:19 -0000 (Thu, 02 Nov 2023) EndedAt: 2023-11-02 15:03:57 -0000 (Thu, 02 Nov 2023) EllapsedTime: 218.4 seconds RetCode: 0 Status: OK CheckDir: TrajectoryUtils.Rcheck Warnings: 0