Package: TrajectoryUtils Version: 1.10.1 Command: rm -rf TrajectoryUtils.buildbin-libdir && mkdir TrajectoryUtils.buildbin-libdir && /Users/biocbuild/BBS/utils/build-universal.sh TrajectoryUtils_1.10.1.tar.gz /Library/Frameworks/R.framework/Resources/bin/R TrajectoryUtils.buildbin-libdir StartedAt: 2024-03-04 01:09:16 -0500 (Mon, 04 Mar 2024) EndedAt: 2024-03-04 01:09:53 -0500 (Mon, 04 Mar 2024) EllapsedTime: 37.0 seconds RetCode: 0 Status: OK PackageFile: TrajectoryUtils_1.10.1.tgz PackageFileSize: 557.5 KiB