Package: TrajectoryUtils Version: 1.10.1 Command: /Library/Frameworks/R.framework/Resources/bin/R CMD check --install=check:TrajectoryUtils.install-out.txt --library=/Library/Frameworks/R.framework/Resources/library --no-vignettes --timings TrajectoryUtils_1.10.1.tar.gz StartedAt: 2024-03-04 00:00:21 -0500 (Mon, 04 Mar 2024) EndedAt: 2024-03-04 00:03:39 -0500 (Mon, 04 Mar 2024) EllapsedTime: 197.5 seconds RetCode: 0 Status: OK CheckDir: TrajectoryUtils.Rcheck Warnings: 0