Package: TrajectoryUtils Version: 1.10.1 Command: /home/biocbuild/bbs-3.18-bioc/R/bin/R CMD build --keep-empty-dirs --no-resave-data TrajectoryUtils StartedAt: 2024-04-15 19:37:45 -0400 (Mon, 15 Apr 2024) EndedAt: 2024-04-15 19:38:17 -0400 (Mon, 15 Apr 2024) EllapsedTime: 31.6 seconds RetCode: 0 Status: OK PackageFile: TrajectoryUtils_1.10.1.tar.gz PackageFileSize: 336.6 KiB