Package: TreeAndLeaf Version: 1.14.0 Command: F:\biocbuild\bbs-3.18-bioc\R\bin\R.exe CMD INSTALL TreeAndLeaf StartedAt: 2024-04-15 15:59:56 -0400 (Mon, 15 Apr 2024) EndedAt: 2024-04-15 16:00:03 -0400 (Mon, 15 Apr 2024) EllapsedTime: 7.3 seconds RetCode: 0 Status: OK