Package: UCell Version: 2.6.2 Command: rm -rf UCell.buildbin-libdir && mkdir UCell.buildbin-libdir && /Users/biocbuild/BBS/utils/build-universal.sh UCell_2.6.2.tar.gz /Library/Frameworks/R.framework/Resources/bin/R UCell.buildbin-libdir StartedAt: 2024-04-16 12:55:03 -0400 (Tue, 16 Apr 2024) EndedAt: 2024-04-16 12:56:06 -0400 (Tue, 16 Apr 2024) EllapsedTime: 62.9 seconds RetCode: 0 Status: OK PackageFile: UCell_2.6.2.tgz PackageFileSize: 2.877 MiB