Package: UMI4Cats Version: 1.12.0 Command: rm -rf UMI4Cats.buildbin-libdir && mkdir UMI4Cats.buildbin-libdir && /Users/biocbuild/BBS/utils/build-universal.sh UMI4Cats_1.12.0.tar.gz /Library/Frameworks/R.framework/Resources/bin/R UMI4Cats.buildbin-libdir StartedAt: 2024-04-16 12:55:08 -0400 (Tue, 16 Apr 2024) EndedAt: 2024-04-16 12:56:35 -0400 (Tue, 16 Apr 2024) EllapsedTime: 87.4 seconds RetCode: 0 Status: OK PackageFile: UMI4Cats_1.12.0.tgz PackageFileSize: 3.306 MiB