Package: UMI4Cats Version: 1.12.0 Command: /Library/Frameworks/R.framework/Resources/bin/R CMD check --install=check:UMI4Cats.install-out.txt --library=/Library/Frameworks/R.framework/Resources/library --no-vignettes --timings UMI4Cats_1.12.0.tar.gz StartedAt: 2024-04-16 10:17:32 -0400 (Tue, 16 Apr 2024) EndedAt: 2024-04-16 10:29:23 -0400 (Tue, 16 Apr 2024) EllapsedTime: 710.7 seconds RetCode: 0 Status: OK CheckDir: UMI4Cats.Rcheck Warnings: 0