Package: UMI4Cats Version: 1.12.0 Command: chmod a+r UMI4Cats -R && F:\biocbuild\bbs-3.18-bioc\R\bin\R.exe CMD build --keep-empty-dirs --no-resave-data UMI4Cats StartedAt: 2024-04-15 21:52:18 -0400 (Mon, 15 Apr 2024) EndedAt: 2024-04-15 21:54:53 -0400 (Mon, 15 Apr 2024) EllapsedTime: 155.3 seconds RetCode: 0 Status: OK PackageFile: UMI4Cats_1.12.0.tar.gz PackageFileSize: 3.359 MiB