Package: Ularcirc Version: 1.20.0 Command: /home/biocbuild/R/R-4.3.1/bin/R CMD INSTALL Ularcirc StartedAt: 2023-11-01 21:06:26 -0000 (Wed, 01 Nov 2023) EndedAt: 2023-11-01 21:06:41 -0000 (Wed, 01 Nov 2023) EllapsedTime: 14.7 seconds RetCode: 0 Status: OK