Package: Ularcirc Version: 1.20.0 Command: /Library/Frameworks/R.framework/Resources/bin/R CMD check --install=check:Ularcirc.install-out.txt --library=/Library/Frameworks/R.framework/Resources/library --no-vignettes --timings Ularcirc_1.20.0.tar.gz StartedAt: 2024-03-04 00:06:09 -0500 (Mon, 04 Mar 2024) EndedAt: 2024-03-04 00:08:07 -0500 (Mon, 04 Mar 2024) EllapsedTime: 118.6 seconds RetCode: 0 Status: WARNINGS CheckDir: Ularcirc.Rcheck Warnings: 1