Package: VERSO Version: 1.12.0 Command: /home/biocbuild/bbs-3.18-bioc/R/bin/R CMD INSTALL VERSO StartedAt: 2024-04-15 15:22:15 -0400 (Mon, 15 Apr 2024) EndedAt: 2024-04-15 15:22:19 -0400 (Mon, 15 Apr 2024) EllapsedTime: 3.1 seconds RetCode: 0 Status: OK