Package: VarCon Version: 1.10.0 Command: /home/biocbuild/R/R-4.3.1/bin/R CMD build --keep-empty-dirs --no-resave-data VarCon StartedAt: 2023-11-02 07:20:33 -0000 (Thu, 02 Nov 2023) EndedAt: 2023-11-02 07:21:46 -0000 (Thu, 02 Nov 2023) EllapsedTime: 73.7 seconds RetCode: 0 Status: OK PackageFile: VarCon_1.10.0.tar.gz PackageFileSize: 1.915 MiB