Package: VarCon Version: 1.10.0 Command: rm -rf VarCon.buildbin-libdir && mkdir VarCon.buildbin-libdir && /Users/biocbuild/BBS/utils/build-universal.sh VarCon_1.10.0.tar.gz /Library/Frameworks/R.framework/Resources/bin/R VarCon.buildbin-libdir StartedAt: 2024-03-04 01:10:07 -0500 (Mon, 04 Mar 2024) EndedAt: 2024-03-04 01:11:08 -0500 (Mon, 04 Mar 2024) EllapsedTime: 61.0 seconds RetCode: 0 Status: OK PackageFile: VarCon_1.10.0.tgz PackageFileSize: 2.015 MiB