Package: VarCon Version: 1.10.0 Command: /Library/Frameworks/R.framework/Resources/bin/R CMD build --keep-empty-dirs --no-resave-data VarCon StartedAt: 2024-04-15 22:43:46 -0400 (Mon, 15 Apr 2024) EndedAt: 2024-04-15 22:45:32 -0400 (Mon, 15 Apr 2024) EllapsedTime: 106.4 seconds RetCode: 0 Status: OK PackageFile: VarCon_1.10.0.tar.gz PackageFileSize: 1.889 MiB