Package: VariantTools Version: 1.44.0 Command: /Library/Frameworks/R.framework/Resources/bin/R CMD build --keep-empty-dirs --no-resave-data VariantTools StartedAt: 2024-04-15 22:44:25 -0400 (Mon, 15 Apr 2024) EndedAt: 2024-04-15 22:47:12 -0400 (Mon, 15 Apr 2024) EllapsedTime: 167.0 seconds RetCode: 0 Status: OK PackageFile: VariantTools_1.44.0.tar.gz PackageFileSize: 5.968 MiB