Package: VennDetail Version: 1.18.0 Command: /Library/Frameworks/R.framework/Resources/bin/R CMD build --keep-empty-dirs --no-resave-data VennDetail StartedAt: 2024-03-03 18:41:31 -0500 (Sun, 03 Mar 2024) EndedAt: 2024-03-03 18:41:45 -0500 (Sun, 03 Mar 2024) EllapsedTime: 13.6 seconds RetCode: 0 Status: OK PackageFile: VennDetail_1.18.0.tar.gz PackageFileSize: 485.9 KiB