Package: Voyager Version: 1.4.0 Command: chmod a+r Voyager -R && F:\biocbuild\bbs-3.18-bioc\R\bin\R.exe CMD build --keep-empty-dirs --no-resave-data Voyager StartedAt: 2024-04-15 21:55:41 -0400 (Mon, 15 Apr 2024) EndedAt: 2024-04-15 21:57:50 -0400 (Mon, 15 Apr 2024) EllapsedTime: 129.5 seconds RetCode: 0 Status: OK PackageFile: Voyager_1.4.0.tar.gz PackageFileSize: 2.946 MiB