Package: Voyager Version: 1.4.0 Command: F:\biocbuild\bbs-3.18-bioc\R\bin\R.exe CMD check --no-multiarch --install=check:Voyager.install-out.txt --library=F:\biocbuild\bbs-3.18-bioc\R\library --no-vignettes --timings Voyager_1.4.0.tar.gz StartedAt: 2024-04-16 06:11:31 -0400 (Tue, 16 Apr 2024) EndedAt: 2024-04-16 06:24:21 -0400 (Tue, 16 Apr 2024) EllapsedTime: 770.5 seconds RetCode: 0 Status: OK CheckDir: Voyager.Rcheck Warnings: 0