Package: Wrench Version: 1.20.0 Command: rm -rf Wrench.buildbin-libdir && mkdir Wrench.buildbin-libdir && F:\biocbuild\bbs-3.18-bioc\R\bin\R.exe CMD INSTALL --build --library=Wrench.buildbin-libdir Wrench_1.20.0.tar.gz StartedAt: 2024-04-16 07:51:29 -0400 (Tue, 16 Apr 2024) EndedAt: 2024-04-16 07:51:35 -0400 (Tue, 16 Apr 2024) EllapsedTime: 5.7 seconds RetCode: 0 Status: OK PackageFile: Wrench_1.20.0.zip PackageFileSize: 268.7 KiB