Package: Wrench Version: 1.20.0 Command: F:\biocbuild\bbs-3.18-bioc\R\bin\R.exe CMD INSTALL Wrench StartedAt: 2024-04-15 15:41:08 -0400 (Mon, 15 Apr 2024) EndedAt: 2024-04-15 15:41:32 -0400 (Mon, 15 Apr 2024) EllapsedTime: 23.7 seconds RetCode: 0 Status: OK