Package: XVector Version: 0.42.0 Command: /Library/Frameworks/R.framework/Resources/bin/R CMD check --install=check:XVector.install-out.txt --library=/Library/Frameworks/R.framework/Resources/library --no-vignettes --timings XVector_0.42.0.tar.gz StartedAt: 2024-03-04 00:13:56 -0500 (Mon, 04 Mar 2024) EndedAt: 2024-03-04 00:15:20 -0500 (Mon, 04 Mar 2024) EllapsedTime: 84.0 seconds RetCode: 0 Status: WARNINGS CheckDir: XVector.Rcheck Warnings: 2