Package: XVector Version: 0.42.0 Command: chmod a+r XVector -R && F:\biocbuild\bbs-3.18-bioc\R\bin\R.exe CMD build --keep-empty-dirs --no-resave-data XVector StartedAt: 2024-04-15 21:59:19 -0400 (Mon, 15 Apr 2024) EndedAt: 2024-04-15 21:59:22 -0400 (Mon, 15 Apr 2024) EllapsedTime: 3.0 seconds RetCode: 0 Status: OK PackageFile: XVector_0.42.0.tar.gz PackageFileSize: 66.27 KiB