Package: ZygosityPredictor Version: 1.2.0 Command: /home/biocbuild/bbs-3.18-bioc/R/bin/R CMD INSTALL ZygosityPredictor StartedAt: 2024-04-15 15:26:33 -0400 (Mon, 15 Apr 2024) EndedAt: 2024-04-15 15:27:15 -0400 (Mon, 15 Apr 2024) EllapsedTime: 41.9 seconds RetCode: 0 Status: OK