Package: a4Base Version: 1.50.0 Command: F:\biocbuild\bbs-3.18-bioc\R\bin\R.exe CMD INSTALL a4Base StartedAt: 2024-04-15 16:28:13 -0400 (Mon, 15 Apr 2024) EndedAt: 2024-04-15 16:28:46 -0400 (Mon, 15 Apr 2024) EllapsedTime: 32.6 seconds RetCode: 0 Status: OK