Package: a4Classif
Version: 1.50.0
Command: /Library/Frameworks/R.framework/Resources/bin/R CMD check --install=check:a4Classif.install-out.txt --library=/Library/Frameworks/R.framework/Resources/library --no-vignettes --timings a4Classif_1.50.0.tar.gz
StartedAt: 2024-04-15 23:03:57 -0400 (Mon, 15 Apr 2024)
EndedAt: 2024-04-15 23:06:28 -0400 (Mon, 15 Apr 2024)
EllapsedTime: 151.2 seconds
RetCode: 0
Status: OK
CheckDir: a4Classif.Rcheck
Warnings: 0