Package: adSplit Version: 1.72.0 Command: /home/biocbuild/R/R-4.3.1/bin/R CMD build --keep-empty-dirs --no-resave-data adSplit StartedAt: 2023-11-01 22:11:55 -0000 (Wed, 01 Nov 2023) EndedAt: 2023-11-01 22:15:08 -0000 (Wed, 01 Nov 2023) EllapsedTime: 193.3 seconds RetCode: 0 Status: OK PackageFile: adSplit_1.72.0.tar.gz PackageFileSize: 523 KiB