Package: adSplit Version: 1.72.0 Command: rm -rf adSplit.buildbin-libdir && mkdir adSplit.buildbin-libdir && /Users/biocbuild/BBS/utils/build-universal.sh adSplit_1.72.0.tar.gz /Library/Frameworks/R.framework/Resources/bin/R adSplit.buildbin-libdir StartedAt: 2024-03-04 00:28:08 -0500 (Mon, 04 Mar 2024) EndedAt: 2024-03-04 00:28:40 -0500 (Mon, 04 Mar 2024) EllapsedTime: 31.6 seconds RetCode: 0 Status: OK PackageFile: adSplit_1.72.0.tgz PackageFileSize: 560.2 KiB