Package: adSplit Version: 1.72.0 Command: rm -rf adSplit.buildbin-libdir && mkdir adSplit.buildbin-libdir && /Users/biocbuild/BBS/utils/build-universal.sh adSplit_1.72.0.tar.gz /Library/Frameworks/R.framework/Resources/bin/R adSplit.buildbin-libdir StartedAt: 2024-04-16 10:57:01 -0400 (Tue, 16 Apr 2024) EndedAt: 2024-04-16 10:57:42 -0400 (Tue, 16 Apr 2024) EllapsedTime: 40.9 seconds RetCode: 0 Status: OK PackageFile: adSplit_1.72.0.tgz PackageFileSize: 560.4 KiB