Package: adSplit Version: 1.72.0 Command: /Library/Frameworks/R.framework/Resources/bin/R CMD check --install=check:adSplit.install-out.txt --library=/Library/Frameworks/R.framework/Resources/library --no-vignettes --timings adSplit_1.72.0.tar.gz StartedAt: 2024-04-15 23:03:57 -0400 (Mon, 15 Apr 2024) EndedAt: 2024-04-15 23:12:29 -0400 (Mon, 15 Apr 2024) EllapsedTime: 511.7 seconds RetCode: 0 Status: OK CheckDir: adSplit.Rcheck Warnings: 0