Package: adverSCarial Version: 1.0.0 Command: /home/biocbuild/R/R-4.3.1/bin/R CMD build --keep-empty-dirs --no-resave-data adverSCarial StartedAt: 2023-11-01 22:11:55 -0000 (Wed, 01 Nov 2023) EndedAt: 2023-11-01 22:12:54 -0000 (Wed, 01 Nov 2023) EllapsedTime: 59.1 seconds RetCode: 0 Status: OK PackageFile: adverSCarial_1.0.0.tar.gz PackageFileSize: 147.9 KiB