Package: adverSCarial Version: 1.0.0 Command: /home/biocbuild/R/R-4.3.1/bin/R CMD check --install=check:adverSCarial.install-out.txt --library=/home/biocbuild/R/R-4.3.1/site-library --no-vignettes --timings adverSCarial_1.0.0.tar.gz StartedAt: 2023-11-02 08:11:24 -0000 (Thu, 02 Nov 2023) EndedAt: 2023-11-02 08:51:24 -0000 (Thu, 02 Nov 2023) EllapsedTime: 2400.1 seconds RetCode: None Status: TIMEOUT CheckDir: adverSCarial.Rcheck Warnings: NA