Package: adverSCarial Version: 1.0.0 Command: /Library/Frameworks/R.framework/Resources/bin/R CMD INSTALL adverSCarial StartedAt: 2024-03-03 15:10:38 -0500 (Sun, 03 Mar 2024) EndedAt: 2024-03-03 15:10:49 -0500 (Sun, 03 Mar 2024) EllapsedTime: 10.9 seconds RetCode: 0 Status: OK