Package: adverSCarial Version: 1.0.0 Command: rm -rf adverSCarial.buildbin-libdir && mkdir adverSCarial.buildbin-libdir && /Users/biocbuild/BBS/utils/build-universal.sh adverSCarial_1.0.0.tar.gz /Library/Frameworks/R.framework/Resources/bin/R adverSCarial.buildbin-libdir StartedAt: 2024-04-16 10:57:01 -0400 (Tue, 16 Apr 2024) EndedAt: 2024-04-16 10:57:10 -0400 (Tue, 16 Apr 2024) EllapsedTime: 8.6 seconds RetCode: 0 Status: OK PackageFile: adverSCarial_1.0.0.tgz PackageFileSize: 312.3 KiB