Package: adverSCarial Version: 1.0.0 Command: /Library/Frameworks/R.framework/Resources/bin/R CMD build --keep-empty-dirs --no-resave-data adverSCarial StartedAt: 2024-04-15 16:48:14 -0400 (Mon, 15 Apr 2024) EndedAt: 2024-04-15 16:49:52 -0400 (Mon, 15 Apr 2024) EllapsedTime: 97.6 seconds RetCode: 0 Status: OK PackageFile: adverSCarial_1.0.0.tar.gz PackageFileSize: 148 KiB