Package: adverSCarial Version: 1.0.0 Command: /home/biocbuild/bbs-3.18-bioc/R/bin/R CMD build --keep-empty-dirs --no-resave-data adverSCarial StartedAt: 2024-04-15 15:55:04 -0400 (Mon, 15 Apr 2024) EndedAt: 2024-04-15 15:55:43 -0400 (Mon, 15 Apr 2024) EllapsedTime: 38.7 seconds RetCode: 0 Status: OK PackageFile: adverSCarial_1.0.0.tar.gz PackageFileSize: 148 KiB