Package: affyContam Version: 1.60.0 Command: /home/biocbuild/R/R-4.3.1/bin/R CMD build --keep-empty-dirs --no-resave-data affyContam StartedAt: 2023-11-01 22:12:20 -0000 (Wed, 01 Nov 2023) EndedAt: 2023-11-01 22:12:37 -0000 (Wed, 01 Nov 2023) EllapsedTime: 17.0 seconds RetCode: 0 Status: OK PackageFile: affyContam_1.60.0.tar.gz PackageFileSize: 498.2 KiB