Package: affyContam Version: 1.60.0 Command: rm -rf affyContam.buildbin-libdir && mkdir affyContam.buildbin-libdir && /Users/biocbuild/BBS/utils/build-universal.sh affyContam_1.60.0.tar.gz /Library/Frameworks/R.framework/Resources/bin/R affyContam.buildbin-libdir StartedAt: 2024-03-04 00:28:08 -0500 (Mon, 04 Mar 2024) EndedAt: 2024-03-04 00:28:20 -0500 (Mon, 04 Mar 2024) EllapsedTime: 11.2 seconds RetCode: 0 Status: OK PackageFile: affyContam_1.60.0.tgz PackageFileSize: 303.6 KiB