Package: affyContam Version: 1.60.0 Command: /Library/Frameworks/R.framework/Resources/bin/R CMD check --install=check:affyContam.install-out.txt --library=/Library/Frameworks/R.framework/Resources/library --no-vignettes --timings affyContam_1.60.0.tar.gz StartedAt: 2024-04-15 23:04:44 -0400 (Mon, 15 Apr 2024) EndedAt: 2024-04-15 23:06:03 -0400 (Mon, 15 Apr 2024) EllapsedTime: 78.8 seconds RetCode: 0 Status: OK CheckDir: affyContam.Rcheck Warnings: 0