Package: affyContam Version: 1.60.0 Command: /home/biocbuild/bbs-3.18-bioc/R/bin/R CMD build --keep-empty-dirs --no-resave-data affyContam StartedAt: 2024-04-15 15:55:20 -0400 (Mon, 15 Apr 2024) EndedAt: 2024-04-15 15:55:32 -0400 (Mon, 15 Apr 2024) EllapsedTime: 12.5 seconds RetCode: 0 Status: OK PackageFile: affyContam_1.60.0.tar.gz PackageFileSize: 412.1 KiB