Package: affyContam Version: 1.60.0 Command: /home/biocbuild/bbs-3.18-bioc/R/bin/R CMD check --install=check:affyContam.install-out.txt --library=/home/biocbuild/bbs-3.18-bioc/R/site-library --timings affyContam_1.60.0.tar.gz StartedAt: 2024-04-15 19:54:50 -0400 (Mon, 15 Apr 2024) EndedAt: 2024-04-15 19:55:43 -0400 (Mon, 15 Apr 2024) EllapsedTime: 53.2 seconds RetCode: 0 Status: OK CheckDir: affyContam.Rcheck Warnings: 0