Package: affyContam Version: 1.60.0 Command: chmod a+r affyContam -R && F:\biocbuild\bbs-3.18-bioc\R\bin\R.exe CMD build --keep-empty-dirs --no-resave-data affyContam StartedAt: 2024-04-15 16:53:46 -0400 (Mon, 15 Apr 2024) EndedAt: 2024-04-15 16:54:07 -0400 (Mon, 15 Apr 2024) EllapsedTime: 20.3 seconds RetCode: 0 Status: OK PackageFile: affyContam_1.60.0.tar.gz PackageFileSize: 414.2 KiB